BEGIN:VCALENDAR
VERSION:2.0
PRODID:-//Organizational Ignition - ECPv6.15.7//NONSGML v1.0//EN
CALSCALE:GREGORIAN
METHOD:PUBLISH
X-WR-CALNAME:Organizational Ignition
X-ORIGINAL-URL:https://organizationalignition.com
X-WR-CALDESC:Events for Organizational Ignition
REFRESH-INTERVAL;VALUE=DURATION:PT1H
X-Robots-Tag:noindex
X-PUBLISHED-TTL:PT1H
BEGIN:VTIMEZONE
TZID:America/New_York
BEGIN:DAYLIGHT
TZOFFSETFROM:-0500
TZOFFSETTO:-0400
TZNAME:EDT
DTSTART:20250309T070000
END:DAYLIGHT
BEGIN:STANDARD
TZOFFSETFROM:-0400
TZOFFSETTO:-0500
TZNAME:EST
DTSTART:20251102T060000
END:STANDARD
BEGIN:DAYLIGHT
TZOFFSETFROM:-0500
TZOFFSETTO:-0400
TZNAME:EDT
DTSTART:20260308T070000
END:DAYLIGHT
BEGIN:STANDARD
TZOFFSETFROM:-0400
TZOFFSETTO:-0500
TZNAME:EST
DTSTART:20261101T060000
END:STANDARD
BEGIN:DAYLIGHT
TZOFFSETFROM:-0500
TZOFFSETTO:-0400
TZNAME:EDT
DTSTART:20270314T070000
END:DAYLIGHT
BEGIN:STANDARD
TZOFFSETFROM:-0400
TZOFFSETTO:-0500
TZNAME:EST
DTSTART:20271107T060000
END:STANDARD
END:VTIMEZONE
BEGIN:VEVENT
DTSTART;TZID=America/New_York:20260205T090000
DTEND;TZID=America/New_York:20260205T153000
DTSTAMP:20260423T050333
CREATED:20260203T192046Z
LAST-MODIFIED:20260203T192046Z
UID:10000212-1770282000-1770305400@organizationalignition.com
SUMMARY:2/5/2026 Critical Thinking: Sharpen your Problem Solving and Decision Making
DESCRIPTION:Are you having problems making decisions? Does it take too long to solve problems? How would you like to make 87% better decisions leading to 3.5 times likelihood that you will experience faster growth?\n“Critical thinking is\, in short\, self-directed\, self-disciplined\, self-monitored\, and self-corrective thinking. It presupposes assent to rigorous standards of excellence and mindful command of their use. It entails effective communication and problem-solving abilities and a commitment to overcome our native egocentrism and sociocentrism.” (Taken from Richard Paul and Linda Elder\, The Miniature Guide to Critical Thinking Concepts and Tools\, Foundation for Critical Thinking Press\, 2008)  \nThis online workshop will explore best practices with regard to critical thinking and offer practical methods and strategies to intentionally adopt this approach and improve the way one thinks. Participants will explore assessment and evaluation\, problem-solving and decision-making\, through practical discussion and application during the session. \nThis course has been approved for SHRM PDCs.
URL:https://organizationalignition.com/event/2-5-2026-critical-thinking-sharpen-your-problem-solving-and-decision-making/
END:VEVENT
END:VCALENDAR