BEGIN:VCALENDAR
VERSION:2.0
PRODID:-//Organizational Ignition - ECPv6.15.7//NONSGML v1.0//EN
CALSCALE:GREGORIAN
METHOD:PUBLISH
X-ORIGINAL-URL:https://organizationalignition.com
X-WR-CALDESC:Events for Organizational Ignition
REFRESH-INTERVAL;VALUE=DURATION:PT1H
X-Robots-Tag:noindex
X-PUBLISHED-TTL:PT1H
BEGIN:VTIMEZONE
TZID:America/New_York
BEGIN:DAYLIGHT
TZOFFSETFROM:-0500
TZOFFSETTO:-0400
TZNAME:EDT
DTSTART:20230312T070000
END:DAYLIGHT
BEGIN:STANDARD
TZOFFSETFROM:-0400
TZOFFSETTO:-0500
TZNAME:EST
DTSTART:20231105T060000
END:STANDARD
BEGIN:DAYLIGHT
TZOFFSETFROM:-0500
TZOFFSETTO:-0400
TZNAME:EDT
DTSTART:20240310T070000
END:DAYLIGHT
BEGIN:STANDARD
TZOFFSETFROM:-0400
TZOFFSETTO:-0500
TZNAME:EST
DTSTART:20241103T060000
END:STANDARD
BEGIN:DAYLIGHT
TZOFFSETFROM:-0500
TZOFFSETTO:-0400
TZNAME:EDT
DTSTART:20250309T070000
END:DAYLIGHT
BEGIN:STANDARD
TZOFFSETFROM:-0400
TZOFFSETTO:-0500
TZNAME:EST
DTSTART:20251102T060000
END:STANDARD
END:VTIMEZONE
BEGIN:VTIMEZONE
TZID:UTC
BEGIN:STANDARD
TZOFFSETFROM:+0000
TZOFFSETTO:+0000
TZNAME:UTC
DTSTART:20230101T000000
END:STANDARD
END:VTIMEZONE
BEGIN:VEVENT
DTSTART;TZID=America/New_York:20240917T083000
DTEND;TZID=America/New_York:20240917T100000
DTSTAMP:20260423T115200
CREATED:20240203T082653Z
LAST-MODIFIED:20240205T021216Z
UID:10000068-1726561800-1726567200@organizationalignition.com
SUMMARY:Senior Leadership Role in DEI: Achieving Organizational Performance Through DEI -
DESCRIPTION:Senior Management has decided they want to pursue diversity for the good the organization and its customers/clients. You have been tasked with leading or playing a major role in carrying out this decision. But how do you do this? Whether you are Senior management or middle-management – in HR or Business Unit/Department Leadership\, this session will help you understand how to set yourself up for a successful diversity\, equity\, & inclusion push. It will review what we call the 5 magic D&I Implementation Guideposts. \nLearning Objectives \nBy the end of this session you will be able to: \n\nlink your DEI initiative to organizational performance\ncreate a roadmap for your DEI initiative\nset the proper expectations for a DEI initiative\ncreate welcoming\, inclusive spaces and a higher-performing organization.\n\nFacilitator: James McKim\, PMP\, ITIL\,  Managing Partner\, Organizational Ignition
URL:https://organizationalignition.com/event/achieving-organizational-performance-through-dei-2/
CATEGORIES:DEI Series FY24
END:VEVENT
BEGIN:VEVENT
DTSTART;TZID=UTC:20240917T120000
DTEND;TZID=UTC:20240917T130000
DTSTAMP:20260423T115200
CREATED:20240214T035259Z
LAST-MODIFIED:20240214T181914Z
UID:10000169-1726574400-1726578000@organizationalignition.com
SUMMARY:DEI Office Hours - September 17
DESCRIPTION:Have questions about your DEI initiative? \nJoin your peers and our experts every 3rd Thursday to learn \n\nwhat works\nwhat doesn’t work\nhow to overcome your challenges in implementing DEI so that it actually improves your organization
URL:https://organizationalignition.com/event/dei-office-hours-4/
CATEGORIES:DEI Series FY24
END:VEVENT
BEGIN:VEVENT
DTSTART;TZID=UTC:20240924T133000
DTEND;TZID=UTC:20240924T150000
DTSTAMP:20260423T115200
CREATED:20240912T233107Z
LAST-MODIFIED:20240912T233107Z
UID:10000182-1727184600-1727190000@organizationalignition.com
SUMMARY:ACCESS 2024: Data & Organizational Performance
DESCRIPTION:Can’t wait to see you to discuss how data can be used to ignite superior organizational performance!\n \n 
URL:https://organizationalignition.com/event/access-2024-data-organizational-performance/
LOCATION:DoubleTree by Hilton\, Manchester\, 700 Elm St.\, Manchester\, 03101\, United States
END:VEVENT
END:VCALENDAR